BEGIN:VCALENDAR
VERSION:2.0
PRODID:-//Entourage - Bien vieillir - ECPv6.2.8.1//NONSGML v1.0//EN
CALSCALE:GREGORIAN
METHOD:PUBLISH
X-ORIGINAL-URL:https://entourage-bien-vieillir.fr
X-WR-CALDESC:évènements pour Entourage - Bien vieillir
REFRESH-INTERVAL;VALUE=DURATION:PT1H
X-Robots-Tag:noindex
X-PUBLISHED-TTL:PT1H
BEGIN:VTIMEZONE
TZID:Europe/Paris
BEGIN:DAYLIGHT
TZOFFSETFROM:+0100
TZOFFSETTO:+0200
TZNAME:CEST
DTSTART:20240331T010000
END:DAYLIGHT
BEGIN:STANDARD
TZOFFSETFROM:+0200
TZOFFSETTO:+0100
TZNAME:CET
DTSTART:20241027T010000
END:STANDARD
END:VTIMEZONE
BEGIN:VEVENT
DTSTART;TZID=Europe/Paris:20240224T193000
DTEND;TZID=Europe/Paris:20240224T210000
DTSTAMP:20260423T100537
CREATED:20240219T113707Z
LAST-MODIFIED:20240219T115408Z
UID:2965-1708803000-1708808400@entourage-bien-vieillir.fr
SUMMARY:Le diable à 4 pattes : Bouzillades
DESCRIPTION:Dans le cadre du partenariat entre l’association EntourAge et la compagnie de théâtre participative Le diable à 4 pattes\, nous vous proposons d’assister au spectacle :\n \nLe samedi 24 février 2024 \n« Bouzillades » \nA la salle des fêtes de Bouzy à 19H30 par des comédiens professionnels et amateurs \nCette proposition de sortie fait suite à l’invitation à participer à différents stages pratiques mais s’adresse à tous les bénéficiaires. \nVenir assister au spectacle\, c’est aussi découvrir l’envers du décor et de mieux connaître le travail de la compagnie. \nEn effet\, la compagnie du Diable à 4 pattes s’est installée pour deux semaines dans la commune de Bouzy pour mener divers ateliers avec les habitants. \nRéservation obligatoire au 03.26.55.18.44 ou à l’accueil de la MJC d’Ay Champagne. Spectacle gratuit.
URL:https://entourage-bien-vieillir.fr/event/le-diable-a-4-pattes-bouzillades/
LOCATION:MJC Aÿ\, 5 Rue de la Liberté\, Aÿ-Champagne\, 51160\, France
CATEGORIES:Evénements,Théâtre
END:VEVENT
END:VCALENDAR